BEGIN:VCALENDAR
VERSION:2.0
PRODID:-//Sidraturismo Asturias - ECPv6.15.20//NONSGML v1.0//EN
CALSCALE:GREGORIAN
METHOD:PUBLISH
X-WR-CALNAME:Sidraturismo Asturias
X-ORIGINAL-URL:https://www.sidraturismoasturias.es
X-WR-CALDESC:Eventos para Sidraturismo Asturias
REFRESH-INTERVAL;VALUE=DURATION:PT1H
X-Robots-Tag:noindex
X-PUBLISHED-TTL:PT1H
BEGIN:VTIMEZONE
TZID:UTC
BEGIN:STANDARD
TZOFFSETFROM:+0000
TZOFFSETTO:+0000
TZNAME:UTC
DTSTART:20240101T000000
END:STANDARD
END:VTIMEZONE
BEGIN:VEVENT
DTSTART;TZID=UTC:20250726T120000
DTEND;TZID=UTC:20250726T133000
DTSTAMP:20260421T135544
CREATED:20250721T095106Z
LAST-MODIFIED:20250723T072231Z
UID:24376-1753531200-1753536600@www.sidraturismoasturias.es
SUMMARY:Cata - La Sidra Natural Espumosa
DESCRIPTION:Cata – La Sidra Natural Espumosa \nUna oportunidad única descubrir y disfrutar de la Sidra Natural Espumosa. A través de este taller podrás conocer los métodos de elaboración\, los mejores maridajes y degustar\, a través de una cata\, varias sidras naturales espumosas. Dicho evento estará guiado por el reconocido sumiller\, Juan Luis García \nFechas y horario: sábado 26 de julio\, de 12:00 a 13:30 | 👥 Aforo limitado: 25 personas | Más info y reserva aquí
URL:https://www.sidraturismoasturias.es/calendario-sidrero/sidra-natural-espumosa/
LOCATION:Museo de la Sidra\, Plaza Príncipe de Asturias\, s/n\, Nava\, Asturias\, 3350\, Spain
ATTACH;FMTTYPE=image/png:https://www.sidraturismoasturias.es/wp-content/uploads/2025/07/Cabecera-Cata-La-Sidra-Natural-Espumosa.png
END:VEVENT
END:VCALENDAR