BEGIN:VCALENDAR
VERSION:2.0
PRODID:-//Sidraturismo Asturias - ECPv6.15.20//NONSGML v1.0//EN
CALSCALE:GREGORIAN
METHOD:PUBLISH
X-WR-CALNAME:Sidraturismo Asturias
X-ORIGINAL-URL:https://www.sidraturismoasturias.es
X-WR-CALDESC:Eventos para Sidraturismo Asturias
REFRESH-INTERVAL;VALUE=DURATION:PT1H
X-Robots-Tag:noindex
X-PUBLISHED-TTL:PT1H
BEGIN:VTIMEZONE
TZID:UTC
BEGIN:STANDARD
TZOFFSETFROM:+0000
TZOFFSETTO:+0000
TZNAME:UTC
DTSTART:20240101T000000
END:STANDARD
END:VTIMEZONE
BEGIN:VEVENT
DTSTART;TZID=UTC:20250914T120000
DTEND;TZID=UTC:20250914T150000
DTSTAMP:20260422T025031
CREATED:20240910T102631Z
LAST-MODIFIED:20250910T140556Z
UID:22176-1757851200-1757862000@www.sidraturismoasturias.es
SUMMARY:V Concurso de Sidra Casero de Salas
DESCRIPTION:El próximo domingo 14 de septiembre se va a realizar el Concurso de Sidra Casero de Salas\, que va por su 5ª edición. Con la compra del vaso conmemorativo se podrá disfrutar de toda la sidra de casa participante.
URL:https://www.sidraturismoasturias.es/calendario-sidrero/concurso-sidra-casero-salas/
LOCATION:Plaza de la Iglesia\, Pl. de la Iglesia\, Salas\, Asturias\, 33860
ATTACH;FMTTYPE=image/png:https://www.sidraturismoasturias.es/wp-content/uploads/2024/09/Cabecera-V-Concurso-Sidra-Casero-Salas.png
END:VEVENT
END:VCALENDAR